Workbook

Sheet Свод  по  МО
A1: Сводная оценка качества управления финансами и платежеспособности бюджетов городских округов, муниципальных округов и муниципальных районов Липецкой области за 2023 год
A3: № индикатора | B3: Наименование индикатора | C3: Формула расчета значения индикатора | D3: Минимальный риск неплатежеспособности (наилучший уровень управления бюджетом) - 1 (Vmax) | E3: Максимальный риск неплатежеспособности (наихудший уровень управления бюджетом) - 0 (Vmin) | F3: Вес индикатора | G3: Воловский муниципальный округ | H3: Грязинский муниципальный район | I3: Данковский муниципальный район | J3: Добринский муниципальный район | K3: Добровский муниципальный округ | L3: Долгоруковский муниципальный район | M3: Елецкий муниципальный район | N3: Задонский муниципальный район | O3: Измалковский муниципальный округ | P3: Краснинский муниципальный район | Q3: Лебедянский муниципальный район | R3: Лев-Толстовский муниципальный район | S3: Липецкий муниципальный район | T3: Становлянский муниципальный округ | U3: Тербунский муниципальный район | V3: Усманский муниципальный район | W3: Хлевенский муниципальный район | X3: Чаплыгинский муниципальный район | Y3: Городской округ город Елец | Z3: Городской округ город Липецк
A4: I. Cоблюдение бюджетного законодательства при осуществлении бюджетного процесса
A5: =[1]Свод!A5 -> И1 | B5: =[1]Свод!B5 -> Соблюдение ограничения дефицита местного бюджета, установленного Бюджетным кодексом Российской Федерации | C5: =[1]Свод!C5 -> V = (A - B - C) - 0,1 x (D - E - F); для муниципального образования, в отношении которого осуществляются меры, предусмотренные пунктом 4 статьи 136 Бюджетного кодекса, V = (A - B - C) - 0,05 x (D - E - F), где: А - размер дефицита местного бюджета; В - объем поступлений от продажи акций и иных форм участия в капитале, находящихся в собственности муниципального образования; С - величина снижения остатков средств на счетах по учету средств местного бюджета; D - объем доходов местного бюджета; Е - объем безвозмездных поступлений местного бюджета; F - объем налоговых доходов местного бюджета по дополнительным нормативам отчислений от налога на доходы физических лиц. Для оперативной оценки учитывается уточненный план, для годовой - исполнение. Нормативное значение V <= 0 | D5: =[1]Свод!D5 -> да | E5: =[1]Свод!E5 -> нет | F5: =[1]Свод!F5 -> 4 | G5: ='[1]Воловский МО '!I5 -> 4 | H5: =[1]Грязинский!I5 -> 4 | I5: =[1]Данковский!I5 -> 4 | J5: =[1]Добринский!I5 -> 4 | K5: ='[1]Добровский МО'!I5 -> 4 | L5: =[1]Долгоруковский!I5 -> 4 | M5: =[1]Елецкий!I5 -> 4 | N5: =[1]Задонский!I5 -> 4 | O5: =[1]Измалковский!I5 -> 4 | P5: =[1]Краснинский!I5 -> 4 | Q5: =[1]Лебедянский!I5 -> 4 | R5: ='[1]Лев-Толстовский'!I5 -> 4 | S5: =[1]Липецкий!I5 -> 4 | T5: =[1]Становлянский!I5 -> 4 | U5: =[1]Тербунский!I5 -> 4 | V5: =[1]Усманский!I5 -> 4 | W5: =[1]Хлевенский!I5 -> 4 | X5: =[1]Чаплыгинский!I5 -> 4 | Y5: =[1]г.Елец!I5 -> 4 | Z5: =[1]г.Липецк!I5 -> 4
A6: =[1]Свод!A6 -> И2 | B6: =[1]Свод!B6 -> Соблюдение ограничения на объем муниципальных заимствований, установленного Бюджетным кодексом Российской Федерации | C6: =[1]Свод!C6 -> V = А - (В + С), где: А - объем муниципальных заимствований; В - объем дефицита местного бюджета; С - объем погашения долговых обязательств муниципального образования. Если в местном бюджете есть профицит, то В = 0. Для оперативной оценки учитывается уточненный план, для годовой - исполнение. Нормативное значение V < 0 | D6: =[1]Свод!D6 -> да | E6: =[1]Свод!E6 -> нет | F6: =[1]Свод!F6 -> 4 | G6: ='[1]Воловский МО '!I6 -> 4 | H6: =[1]Грязинский!I6 -> 4 | I6: =[1]Данковский!I6 -> 4 | J6: =[1]Добринский!I6 -> 4 | K6: ='[1]Добровский МО'!I6 -> 4 | L6: =[1]Долгоруковский!I6 -> 4 | M6: =[1]Елецкий!I6 -> 4 | N6: =[1]Задонский!I6 -> 4 | O6: =[1]Измалковский!I6 -> 4 | P6: =[1]Краснинский!I6 -> 4 | Q6: =[1]Лебедянский!I6 -> 4 | R6: ='[1]Лев-Толстовский'!I6 -> 4 | S6: =[1]Липецкий!I6 -> 4 | T6: =[1]Становлянский!I6 -> 4 | U6: =[1]Тербунский!I6 -> 4 | V6: =[1]Усманский!I6 -> 4 | W6: =[1]Хлевенский!I6 -> 4 | X6: =[1]Чаплыгинский!I6 -> 4 | Y6: =[1]г.Елец!I6 -> 4 | Z6: =[1]г.Липецк!I6 -> 4
A7: =[1]Свод!A7 -> И3 | B7: =[1]Свод!B7 -> Соблюдение ограничения на верхний предел муниципального долга, установленного Бюджетным кодексом Российской Федерации | C7: =[1]Свод!C7 -> V = А - (В - С - D); для муниципального образования, в отношении которого осуществляются меры, предусмотренные пунктом 4 статьи 136 Бюджетного кодекса, V = А - 0,5 x (В - С - D), где: А - верхний предел муниципального долга муниципального образования на 1 января года, следующего за отчетным; В - уточненный годовой план доходов местного бюджета; С - уточненный годовой план безвозмездных поступлений местного бюджета; D - уточненный годовой план налоговых доходов местного бюджета по дополнительным нормативам отчислений от налога на доходы физических лиц. Для оперативной оценки учитывается уточненный план, для годовой - исполнение. Нормативное значение V <= 0 | D7: =[1]Свод!D7 -> да | E7: =[1]Свод!E7 -> нет | F7: =[1]Свод!F7 -> 4 | G7: ='[1]Воловский МО '!I7 -> 4 | H7: =[1]Грязинский!I7 -> 4 | I7: =[1]Данковский!I7 -> 4 | J7: =[1]Добринский!I7 -> 4 | K7: ='[1]Добровский МО'!I7 -> 4 | L7: =[1]Долгоруковский!I7 -> 4 | M7: =[1]Елецкий!I7 -> 4 | N7: =[1]Задонский!I7 -> 4 | O7: =[1]Измалковский!I7 -> 4 | P7: =[1]Краснинский!I7 -> 4 | Q7: =[1]Лебедянский!I7 -> 4 | R7: ='[1]Лев-Толстовский'!I7 -> 4 | S7: =[1]Липецкий!I7 -> 4 | T7: =[1]Становлянский!I7 -> 4 | U7: =[1]Тербунский!I7 -> 4 | V7: =[1]Усманский!I7 -> 4 | W7: =[1]Хлевенский!I7 -> 4 | X7: =[1]Чаплыгинский!I7 -> 4 | Y7: =[1]г.Елец!I7 -> 4 | Z7: =[1]г.Липецк!I7 -> 4
A8: =[1]Свод!A8 -> И4 | B8: =[1]Свод!B8 -> Соблюдение ограничения расходов на обслуживание муниципального долга, установленного Бюджетным кодексом Российской Федерации | C8: =[1]Свод!C8 -> V = (А / В x 100) - 100, где: А - объем расходов на обслуживание муниципального долга; В - объем расходов местного бюджета без учета субвенций от других бюджетов бюджетной системы Российской Федерации. Для оперативной оценки учитывается уточненный план, для годовой - исполнение. Нормативное значение V < 15% | D8: =[1]Свод!D8 -> да | E8: =[1]Свод!E8 -> нет | F8: =[1]Свод!F8 -> 4 | G8: ='[1]Воловский МО '!I8 -> 4 | H8: =[1]Грязинский!I8 -> 4 | I8: =[1]Данковский!I8 -> 4 | J8: =[1]Добринский!I8 -> 4 | K8: ='[1]Добровский МО'!I8 -> 4 | L8: =[1]Долгоруковский!I8 -> 4 | M8: =[1]Елецкий!I8 -> 4 | N8: =[1]Задонский!I8 -> 4 | O8: =[1]Измалковский!I8 -> 4 | P8: =[1]Краснинский!I8 -> 4 | Q8: =[1]Лебедянский!I8 -> 4 | R8: ='[1]Лев-Толстовский'!I8 -> 4 | S8: =[1]Липецкий!I8 -> 4 | T8: =[1]Становлянский!I8 -> 4 | U8: =[1]Тербунский!I8 -> 4 | V8: =[1]Усманский!I8 -> 4 | W8: =[1]Хлевенский!I8 -> 4 | X8: =[1]Чаплыгинский!I8 -> 4 | Y8: =[1]г.Елец!I8 -> 4 | Z8: =[1]г.Липецк!I8 -> 4
A9: =[1]Свод!A9 -> И5 | B9: =[1]Свод!B9 -> Соблюдение установленных нормативов формирования расходов на оплату труда депутатов, выборных должностных лиц местного самоуправления, осуществляющих свои полномочия на постоянной основе, должностных лиц контрольно-счетного органа муниципального образования, муниципальных служащих Липецкой области | C9: =[1]Свод!C9 -> Муниципальным образованием в отчетном году соблюдался установленный норматив формирования расходов на оплату труда депутатов, выборных должностных лиц местного самоуправления, осуществляющих свои полномочия на постоянной основе, должностных лиц контрольно-счетного органа муниципального образования, муниципальных служащих Липецкой области | D9: =[1]Свод!D9 -> да | E9: =[1]Свод!E9 -> нет | F9: =[1]Свод!F9 -> 5 | G9: ='[1]Воловский МО '!I9 -> 5 | H9: =[1]Грязинский!I9 -> 5 | I9: =[1]Данковский!I9 -> 5 | J9: =[1]Добринский!I9 -> 5 | K9: ='[1]Добровский МО'!I9 -> 5 | L9: =[1]Долгоруковский!I9 -> 5 | M9: =[1]Елецкий!I9 -> 5 | N9: =[1]Задонский!I9 -> 5 | O9: =[1]Измалковский!I9 -> 5 | P9: =[1]Краснинский!I9 -> 5 | Q9: =[1]Лебедянский!I9 -> 5 | R9: ='[1]Лев-Толстовский'!I9 -> 5 | S9: =[1]Липецкий!I9 -> 5 | T9: =[1]Становлянский!I9 -> 5 | U9: =[1]Тербунский!I9 -> 5 | V9: =[1]Усманский!I9 -> 5 | W9: =[1]Хлевенский!I9 -> 5 | X9: =[1]Чаплыгинский!I9 -> 5 | Y9: =[1]г.Елец!I9 -> 5 | Z9: =[1]г.Липецк!I9 -> 0
B10: Итого по блоку | F10: ='[1]Воловский МО '!H10 -> 21 | G10: ='[1]Воловский МО '!I10 -> 21 | H10: =[1]Грязинский!I10 -> 21 | I10: =[1]Данковский!I10 -> 21 | J10: =[1]Добринский!I10 -> 21 | K10: ='[1]Добровский МО'!I10 -> 21 | L10: =[1]Долгоруковский!I10 -> 21 | M10: =[1]Елецкий!I10 -> 21 | N10: =[1]Задонский!I10 -> 21 | O10: =[1]Измалковский!I10 -> 21 | P10: =[1]Краснинский!I10 -> 21 | Q10: =[1]Лебедянский!I10 -> 21 | R10: ='[1]Лев-Толстовский'!I10 -> 21 | S10: =[1]Липецкий!I10 -> 21 | T10: =[1]Становлянский!I10 -> 21 | U10: =[1]Тербунский!I10 -> 21 | V10: =[1]Усманский!I10 -> 21 | W10: =[1]Хлевенский!I10 -> 21 | X10: =[1]Чаплыгинский!I10 -> 21 | Y10: =[1]г.Елец!I10 -> 21 | Z10: =[1]г.Липецк!I10 -> 16 | AA10: =SUM(G10:Z10) -> 415
A11: II. Качество бюджетного планирования
A12: =[1]Свод!A12 -> И6 | B12: =[1]Свод!B12 -> Количество проектов инициативного бюджетирования, реализованных в муниципальном образовании области, на 1 тысячу жителей | C12: =[1]Свод!C12 -> V = А / В, где: А - количество проектов инициативного бюджетирования, реализованных в муниципальном образовании области, информация по которым подтверждена фото- и видеоматериалами на официальном сайте администрации муниципального образования в сети Интернет; В - численность населения муниципального образования по данным территориального органа Федеральной службы государственной статистики по Липецкой области по состоянию на 1 января отчетного финансового года (тыс.чел.) | D12: =[1]Свод!D12 -> 1 | E12: =[1]Свод!E12 -> 0 | F12: =[1]Свод!F12 -> 4.5 | G12: ='[1]Воловский МО '!I12 -> 0 | H12: =[1]Грязинский!I12 -> 0.405 | I12: =[1]Данковский!I12 -> 0.405 | J12: =[1]Добринский!I12 -> 1.935 | K12: ='[1]Добровский МО'!I12 -> 0.315 | L12: =[1]Долгоруковский!I12 -> 0.27 | M12: =[1]Елецкий!I12 -> 0.45 | N12: =[1]Задонский!I12 -> 0 | O12: =[1]Измалковский!I12 -> 0.9 | P12: =[1]Краснинский!I12 -> 0.36 | Q12: =[1]Лебедянский!I12 -> 0.585 | R12: ='[1]Лев-Толстовский'!I12 -> 0 | S12: =[1]Липецкий!I12 -> 0 | T12: =[1]Становлянский!I12 -> 0.81 | U12: =[1]Тербунский!I12 -> 0.45 | V12: =[1]Усманский!I12 -> 0.18 | W12: =[1]Хлевенский!I12 -> 0.99 | X12: =[1]Чаплыгинский!I12 -> 3.15 | Y12: =[1]г.Елец!I12 -> 0.045 | Z12: =[1]г.Липецк!I12 -> 0.36
A13: =[1]Свод!A13 -> И7 | B13: =[1]Свод!B13 -> Исполнение местного бюджета по налоговым и неналоговым доходам к первоначально утвержденному объему | C13: =[1]Свод!C13 -> V = ((А / В) x 100) - 100, где: А - фактически поступившие налоговые и неналоговые доходы местного бюджета за отчетный год; В - объем первоначально утвержденных решением о местном бюджете налоговых и неналоговых доходов; | D13: =[1]Свод!D13 -> до + (-) 10,0 % | E13: =[1]Свод!E13 -> + (-) 10 % и выше | F13: =[1]Свод!F13 -> 5 | G13: ='[1]Воловский МО '!I13 -> 1.825 | H13: =[1]Грязинский!I13 -> 0 | I13: =[1]Данковский!I13 -> 0 | J13: =[1]Добринский!I13 -> 0 | K13: ='[1]Добровский МО'!I13 -> 3.14 | L13: =[1]Долгоруковский!I13 -> 0.41 | M13: =[1]Елецкий!I13 -> 0 | N13: =[1]Задонский!I13 -> 0 | O13: =[1]Измалковский!I13 -> 0 | P13: =[1]Краснинский!I13 -> 0 | Q13: =[1]Лебедянский!I13 -> 0.935 | R13: ='[1]Лев-Толстовский'!I13 -> 0 | S13: =[1]Липецкий!I13 -> 0 | T13: =[1]Становлянский!I13 -> 0 | U13: =[1]Тербунский!I13 -> 0 | V13: =[1]Усманский!I13 -> 0 | W13: =[1]Хлевенский!I13 -> 0 | X13: =[1]Чаплыгинский!I13 -> 0 | Y13: =[1]г.Елец!I13 -> 0 | Z13: =[1]г.Липецк!I13 -> 1.41
A14: =[1]Свод!A14 -> И8 | B14: =[1]Свод!B14 -> Удельный вес расходов местного бюджета, формируемых в рамках программ в общем объеме расходов местного бюджета | C14: =[1]Свод!C14 -> V = А / В x 100, где: А - фактический объем расходов местного бюджета, формируемый в рамках программ; В - фактический объем расходов местного бюджета | D14: =[1]Свод!D14 -> 90 | E14: =[1]Свод!E14 -> 80 | F14: =[1]Свод!F14 -> 5 | G14: ='[1]Воловский МО '!I14 -> 5 | H14: =[1]Грязинский!I14 -> 5 | I14: =[1]Данковский!I14 -> 5 | J14: =[1]Добринский!I14 -> 5 | K14: ='[1]Добровский МО'!I14 -> 5 | L14: =[1]Долгоруковский!I14 -> 5 | M14: =[1]Елецкий!I14 -> 5 | N14: =[1]Задонский!I14 -> 1.835 | O14: =[1]Измалковский!I14 -> 5 | P14: =[1]Краснинский!I14 -> 5 | Q14: =[1]Лебедянский!I14 -> 5 | R14: ='[1]Лев-Толстовский'!I14 -> 5 | S14: =[1]Липецкий!I14 -> 5 | T14: =[1]Становлянский!I14 -> 5 | U14: =[1]Тербунский!I14 -> 5 | V14: =[1]Усманский!I14 -> 5 | W14: =[1]Хлевенский!I14 -> 5 | X14: =[1]Чаплыгинский!I14 -> 5 | Y14: =[1]г.Елец!I14 -> 5 | Z14: =[1]г.Липецк!I14 -> 5
A15: =[1]Свод!A15 -> И9 | B15: =[1]Свод!B15 -> Удельный вес муниципальных учреждений в муниципальном образовании, выполнивших муниципальное задание не менее чем на 100%, в общем количестве муниципальных учреждений муниципального образования, которым установлены муниципальные задания | C15: =[1]Свод!C15 -> V = А / В, где: А - количество муниципальных учреждений в муниципальном образовании, выполнивших муниципальное задание на 100% в отчетном финансовом году; В - общее количество муниципальных учреждений в муниципальном образовании, которым установлены муниципальные задания в отчетном финансовом году | D15: =[1]Свод!D15 -> 100 | E15: =[1]Свод!E15 -> 90 | F15: =[1]Свод!F15 -> 5 | G15: ='[1]Воловский МО '!I15 -> 5 | H15: =[1]Грязинский!I15 -> 5 | I15: =[1]Данковский!I15 -> 5 | J15: =[1]Добринский!I15 -> 5 | K15: ='[1]Добровский МО'!I15 -> 5 | L15: =[1]Долгоруковский!I15 -> 5 | M15: =[1]Елецкий!I15 -> 5 | N15: =[1]Задонский!I15 -> 5 | O15: =[1]Измалковский!I15 -> 5 | P15: =[1]Краснинский!I15 -> 5 | Q15: =[1]Лебедянский!I15 -> 5 | R15: ='[1]Лев-Толстовский'!I15 -> 5 | S15: =[1]Липецкий!I15 -> 5 | T15: =[1]Становлянский!I15 -> 5 | U15: =[1]Тербунский!I15 -> 5 | V15: =[1]Усманский!I15 -> 5 | W15: =[1]Хлевенский!I15 -> 5 | X15: =[1]Чаплыгинский!I15 -> 5 | Y15: =[1]г.Елец!I15 -> 5 | Z15: =[1]г.Липецк!I15 -> 5
A16: =[1]Свод!A16 -> И10 | B16: =[1]Свод!B16 -> Уровень долговой нагрузки на местный бюджет | C16: =[1]Свод!C16 -> V = А / (В - С - D) x 100, где: А - объем муниципального долга местного бюджета на первое число месяца, следующего за отчетным периодом; В - объем доходов местного бюджета; С - объем безвозмездных поступлений местного бюджета; D - объем поступлений налоговых доходов по дополнительным нормативам отчислений. Для оперативной оценки учитывается уточненный план, для годовой - исполнение | D16: =[1]Свод!D16 -> 0 | E16: =[1]Свод!E16 -> 85 | F16: =[1]Свод!F16 -> 5 | G16: ='[1]Воловский МО '!I16 -> 5 | H16: =[1]Грязинский!I16 -> 5 | I16: =[1]Данковский!I16 -> 4.3241176 | J16: =[1]Добринский!I16 -> 5 | K16: ='[1]Добровский МО'!I16 -> 5 | L16: =[1]Долгоруковский!I16 -> 5 | M16: =[1]Елецкий!I16 -> 5 | N16: =[1]Задонский!I16 -> 5 | O16: =[1]Измалковский!I16 -> 5 | P16: =[1]Краснинский!I16 -> 5 | Q16: =[1]Лебедянский!I16 -> 4.6388235 | R16: ='[1]Лев-Толстовский'!I16 -> 5 | S16: =[1]Липецкий!I16 -> 5 | T16: =[1]Становлянский!I16 -> 5 | U16: =[1]Тербунский!I16 -> 5 | V16: =[1]Усманский!I16 -> 4.9647059 | W16: =[1]Хлевенский!I16 -> 5 | X16: =[1]Чаплыгинский!I16 -> 5 | Y16: =[1]г.Елец!I16 -> 4.2317647 | Z16: =[1]г.Липецк!I16 -> 2.3394118
A17: =[1]Свод!A17 -> И11 | B17: =[1]Свод!B17 -> Доля расходов на оплату труда работников административно-управленческого и вспомогательного персонала в фонде начисленной заработной платы труда работников организаций дошкольного и общего образования | C17: =[1]Свод!C17 -> V = (A / B) * 100, где: A - расходы на заработную плату за счет местного бюджета работников административно-управленческого и вспомогательного персонала организаций дошкольного и общего образования; B - общие расходы на заработную плату за счет местного бюджета работников организаций дошкольного и общего образования. Для оперативной оценки учитывается уточненный план, для годовой - исполнение. | D17: =[1]Свод!D17 -> 36 | E17: =[1]Свод!E17 -> 40 | F17: =[1]Свод!F17 -> 5 | G17: ='[1]Воловский МО '!I17 -> 5 | H17: =[1]Грязинский!I17 -> 5 | I17: =[1]Данковский!I17 -> 5 | J17: =[1]Добринский!I17 -> 4.9875 | K17: ='[1]Добровский МО'!I17 -> 2.45 | L17: =[1]Долгоруковский!I17 -> 5 | M17: =[1]Елецкий!I17 -> 5 | N17: =[1]Задонский!I17 -> 5 | O17: =[1]Измалковский!I17 -> 0 | P17: =[1]Краснинский!I17 -> 2.8875 | Q17: =[1]Лебедянский!I17 -> 4.9 | R17: ='[1]Лев-Толстовский'!I17 -> 5 | S17: =[1]Липецкий!I17 -> 0.6375 | T17: =[1]Становлянский!I17 -> 5 | U17: =[1]Тербунский!I17 -> 5 | V17: =[1]Усманский!I17 -> 0 | W17: =[1]Хлевенский!I17 -> 5 | X17: =[1]Чаплыгинский!I17 -> 5 | Y17: =[1]г.Елец!I17 -> 5 | Z17: =[1]г.Липецк!I17 -> 3.975
B18: Итого по блоку | F18: ='[1]Воловский МО '!H18 -> 29.5 | G18: ='[1]Воловский МО '!I18 -> 21.825 | H18: =[1]Грязинский!I18 -> 20.405 | I18: =[1]Данковский!I18 -> 19.729118 | J18: =[1]Добринский!I18 -> 21.9225 | K18: ='[1]Добровский МО'!I18 -> 20.905 | L18: =[1]Долгоруковский!I18 -> 20.68 | M18: =[1]Елецкий!I18 -> 20.45 | N18: =[1]Задонский!I18 -> 16.835 | O18: =[1]Измалковский!I18 -> 15.9 | P18: =[1]Краснинский!I18 -> 18.2475 | Q18: =[1]Лебедянский!I18 -> 21.058824 | R18: ='[1]Лев-Толстовский'!I18 -> 20 | S18: =[1]Липецкий!I18 -> 15.6375 | T18: =[1]Становлянский!I18 -> 20.81 | U18: =[1]Тербунский!I18 -> 20.45 | V18: =[1]Усманский!I18 -> 15.144706 | W18: =[1]Хлевенский!I18 -> 20.99 | X18: =[1]Чаплыгинский!I18 -> 23.15 | Y18: =[1]г.Елец!I18 -> 19.276765 | Z18: =[1]г.Липецк!I18 -> 18.084412 | AA18: =SUM(G18:Z18) -> 391.50132
A19: III. Качество исполнения бюджета
A20: =[1]Свод!A20 -> И12 | B20: =[1]Свод!B20 -> Зависимость местного бюджета от финансовой помощи | C20: =[1]Свод!C20 -> V = А / В x 100, где: А - фактически поступившие доходы местного бюджета в виде дотаций от других бюджетов бюджетной системы Российской Федерации и налоговых доходов по дополнительным нормативам отчислений за отчетный год; В - фактический объем доходов местного бюджета в отчетном финансовом году без учета субвенций от других бюджетов бюджетной системы Российской Федерации | D20: =[1]Свод!D20 -> 30 | E20: =[1]Свод!E20 -> 80 | F20: =[1]Свод!F20 -> 5 | G20: ='[1]Воловский МО '!I20 -> 2.32 | H20: =[1]Грязинский!I20 -> 4.271 | I20: =[1]Данковский!I20 -> 3.459 | J20: =[1]Добринский!I20 -> 5 | K20: ='[1]Добровский МО'!I20 -> 5 | L20: =[1]Долгоруковский!I20 -> 3.446 | M20: =[1]Елецкий!I20 -> 2.093 | N20: =[1]Задонский!I20 -> 2.291 | O20: =[1]Измалковский!I20 -> 2.523 | P20: =[1]Краснинский!I20 -> 3.081 | Q20: =[1]Лебедянский!I20 -> 4.429 | R20: ='[1]Лев-Толстовский'!I20 -> 2.88 | S20: =[1]Липецкий!I20 -> 5 | T20: =[1]Становлянский!I20 -> 2.477 | U20: =[1]Тербунский!I20 -> 3.373 | V20: =[1]Усманский!I20 -> 3.427 | W20: =[1]Хлевенский!I20 -> 3.256 | X20: =[1]Чаплыгинский!I20 -> 4.978 | Y20: =[1]г.Елец!I20 -> 4.013 | Z20: =[1]г.Липецк!I20 -> 5
A21: =[1]Свод!A21 -> И13 | B21: =[1]Свод!B21 -> Отклонение объема расходов местного бюджета в IV квартале от годового объема расходов (без учета целевых межбюджетных трансфертов) | C21: =[1]Свод!C21 -> V = Р4 / (Р1 + Р2 + Р3 + Р4) x 100, где: Р1, Р2, Р3, Р4 - объем фактических расходов местного бюджета в первом, втором, третьем и четвертом кварталах отчетного финансового года соответственно без учета межбюджетных трансфертов, имеющих целевое назначение (субсидии, субвенции, иные межбюджетные трансферты, прочие безвозмездные поступления от других бюджетов бюджетной системы) | D21: =[1]Свод!D21 -> 25 | E21: =[1]Свод!E21 -> 40 | F21: =[1]Свод!F21 -> 5 | G21: ='[1]Воловский МО '!I21 -> 2.28 | H21: =[1]Грязинский!I21 -> 5 | I21: =[1]Данковский!I21 -> 4.4966667 | J21: =[1]Добринский!I21 -> 2.1066667 | K21: ='[1]Добровский МО'!I21 -> 1.22 | L21: =[1]Долгоруковский!I21 -> 2.8233333 | M21: =[1]Елецкий!I21 -> 4.07 | N21: =[1]Задонский!I21 -> 3.51 | O21: =[1]Измалковский!I21 -> 1.3633333 | P21: =[1]Краснинский!I21 -> 3.6666667 | Q21: =[1]Лебедянский!I21 -> 1.08 | R21: ='[1]Лев-Толстовский'!I21 -> 1.5966667 | S21: =[1]Липецкий!I21 -> 1.92 | T21: =[1]Становлянский!I21 -> 2.7233333 | U21: =[1]Тербунский!I21 -> 3.1566667 | V21: =[1]Усманский!I21 -> 3.03 | W21: =[1]Хлевенский!I21 -> 3.5333333 | X21: =[1]Чаплыгинский!I21 -> 2.43 | Y21: =[1]г.Елец!I21 -> 0.75 | Z21: =[1]г.Липецк!I21 -> 2.3366667
A22: =[1]Свод!A22 -> И14 | B22: =[1]Свод!B22 -> Отсутствие просроченной кредиторской задолженности местного бюджета и муниципальных учреждений | C22: =[1]Свод!C22 -> Согласно отчетности об исполнении местного бюджета муниципальное образование не имеет просроченной кредиторской задолженности | D22: =[1]Свод!D22 -> да | E22: =[1]Свод!E22 -> нет | F22: =[1]Свод!F22 -> 3.5 | G22: ='[1]Воловский МО '!I22 -> 3.5 | H22: =[1]Грязинский!I22 -> 3.5 | I22: =[1]Данковский!I22 -> 3.5 | J22: =[1]Добринский!I22 -> 3.5 | K22: ='[1]Добровский МО'!I22 -> 3.5 | L22: =[1]Долгоруковский!I22 -> 3.5 | M22: =[1]Елецкий!I22 -> 3.5 | N22: =[1]Задонский!I22 -> 3.5 | O22: =[1]Измалковский!I22 -> 3.5 | P22: =[1]Краснинский!I22 -> 3.5 | Q22: =[1]Лебедянский!I22 -> 3.5 | R22: ='[1]Лев-Толстовский'!I22 -> 3.5 | S22: =[1]Липецкий!I22 -> 3.5 | T22: =[1]Становлянский!I22 -> 3.5 | U22: =[1]Тербунский!I22 -> 3.5 | V22: =[1]Усманский!I22 -> 3.5 | W22: =[1]Хлевенский!I22 -> 3.5 | X22: =[1]Чаплыгинский!I22 -> 3.5 | Y22: =[1]г.Елец!I22 -> 3.5 | Z22: =[1]г.Липецк!I22 -> 3.5
A23: =[1]Свод!A23 -> И15 | B23: =[1]Свод!B23 -> Динамика роста налоговых и неналоговых доходов местного бюджета по сравнению с предыдущим годом в сопоставимых условиях | C23: =[1]Свод!C23 -> V = ((А - С) / (В - С)) x 100, где: А - фактически поступившие налоговые и неналоговые доходы местного бюджета за отчетный год; В - фактически поступившие налоговые и неналоговые доходы местного бюджета за год, предшествующий отчетному, в условиях отчетного года; С - фактически поступивший налог на доходы физических лиц в виде фиксированных авансовых платежей с доходов, полученных физическими лицами, являющимися иностранными гражданами, осуществляющими трудовую деятельность по найму на основании патента в соответствии со статьей 227.1 Налогового кодекса Российской Федерации, а также налог на доходы физических лиц в части суммы налога, превышающей 650 000 рублей, относящейся к части налоговой базы, превышающей 5 000 000 рублей (за исключением налога на доходы физических лиц с сумм прибыли контролируемой иностранной компании, в том числе фиксированной прибыли контролируемой иностранной компании) | D23: =[1]Свод!D23 -> 105 | E23: =[1]Свод!E23 -> 95 | F23: =[1]Свод!F23 -> 5 | G23: ='[1]Воловский МО '!I23 -> 4.13 | H23: =[1]Грязинский!I23 -> 5 | I23: =[1]Данковский!I23 -> 5 | J23: =[1]Добринский!I23 -> 5 | K23: ='[1]Добровский МО'!I23 -> 5 | L23: =[1]Долгоруковский!I23 -> 5 | M23: =[1]Елецкий!I23 -> 5 | N23: =[1]Задонский!I23 -> 5 | O23: =[1]Измалковский!I23 -> 5 | P23: =[1]Краснинский!I23 -> 5 | Q23: =[1]Лебедянский!I23 -> 5 | R23: ='[1]Лев-Толстовский'!I23 -> 5 | S23: =[1]Липецкий!I23 -> 5 | T23: =[1]Становлянский!I23 -> 5 | U23: =[1]Тербунский!I23 -> 0 | V23: =[1]Усманский!I23 -> 5 | W23: =[1]Хлевенский!I23 -> 5 | X23: =[1]Чаплыгинский!I23 -> 4.8 | Y23: =[1]г.Елец!I23 -> 5 | Z23: =[1]г.Липецк!I23 -> 5
A24: =[1]Свод!A24 -> И16 | B24: =[1]Свод!B24 -> Наличие результатов оценки качества финансового менеджмента главных распорядителей средств местного бюджета и формирование их ежегодного рейтинга на основе методики, утвержденной нормативным правовым актом муниципального образования | C24: =[1]Свод!C24 -> В отчетном году в муниципальном образовании проводилась оценка качества финансового менеджмента главных распорядителей средств местного бюджета за год, предшествующий отчетному, рейтинг имеется и размещен на официальном сайте администрации муниципального образования в сети Интернет | D24: =[1]Свод!D24 -> да | E24: =[1]Свод!E24 -> нет | F24: =[1]Свод!F24 -> 5 | G24: ='[1]Воловский МО '!I24 -> 5 | H24: =[1]Грязинский!I24 -> 5 | I24: =[1]Данковский!I24 -> 5 | J24: =[1]Добринский!I24 -> 5 | K24: ='[1]Добровский МО'!I24 -> 5 | L24: =[1]Долгоруковский!I24 -> 5 | M24: =[1]Елецкий!I24 -> 5 | N24: =[1]Задонский!I24 -> 5 | O24: =[1]Измалковский!I24 -> 5 | P24: =[1]Краснинский!I24 -> 5 | Q24: =[1]Лебедянский!I24 -> 5 | R24: ='[1]Лев-Толстовский'!I24 -> 5 | S24: =[1]Липецкий!I24 -> 5 | T24: =[1]Становлянский!I24 -> 5 | U24: =[1]Тербунский!I24 -> 5 | V24: =[1]Усманский!I24 -> 5 | W24: =[1]Хлевенский!I24 -> 5 | X24: =[1]Чаплыгинский!I24 -> 5 | Y24: =[1]г.Елец!I24 -> 5 | Z24: =[1]г.Липецк!I24 -> 5
A25: =[1]Свод!A25 -> И17 | B25: =[1]Свод!B25 -> Доля закупок для муниципальных нужд, осуществляемых на конкурентной основе в стоимостном выражении (конкурсы, аукционы, запрос котировок и предложений), в общем объеме муниципальных закупок | C25: =[1]Свод!C25 -> V = (A / B) * 100, где: A - закупок для муниципальных нужд, осуществляемых на конкурентной основе в стоимостном выражении; B - общий объем муниципальных закупок | D25: =[1]Свод!D25 -> 40 | E25: =[1]Свод!E25 -> 10 | F25: =[1]Свод!F25 -> 4 | G25: ='[1]Воловский МО '!I25 -> 2.7506667 | H25: =[1]Грязинский!I25 -> 2.4426667 | I25: =[1]Данковский!I25 -> 1.7786667 | J25: =[1]Добринский!I25 -> 3.9746667 | K25: ='[1]Добровский МО'!I25 -> 4 | L25: =[1]Долгоруковский!I25 -> 1.7173333 | M25: =[1]Елецкий!I25 -> 4 | N25: =[1]Задонский!I25 -> 4 | O25: =[1]Измалковский!I25 -> 0.81866667 | P25: =[1]Краснинский!I25 -> 3.4946667 | Q25: =[1]Лебедянский!I25 -> 4 | R25: ='[1]Лев-Толстовский'!I25 -> 1.896 | S25: =[1]Липецкий!I25 -> 3.7733333 | T25: =[1]Становлянский!I25 -> 3.6333333 | U25: =[1]Тербунский!I25 -> 3.6786667 | V25: =[1]Усманский!I25 -> 3.8066667 | W25: =[1]Хлевенский!I25 -> 4 | X25: =[1]Чаплыгинский!I25 -> 3.4773333 | Y25: =[1]г.Елец!I25 -> 3.5733333 | Z25: =[1]г.Липецк!I25 -> 3.4066667
A26: =[1]Свод!A26 -> И18 | B26: =[1]Свод!B26 -> Динамика роста полученных доходов от приносящей доход деятельности муниципальных учреждений | C26: =[1]Свод!C26 -> V = (A / B) * 100, где: A - доходы от приносящей доход деятельности муниципальных учреждений в отчетном финансовом году; B - доходы от приносящей доход деятельности муниципальных учреждений в предыдущем финансовом году. Для оперативной оценки учитывается уточненный план, для годовой - исполнение. | D26: =[1]Свод!D26 -> 105 | E26: =[1]Свод!E26 -> 100 | F26: =[1]Свод!F26 -> 5 | G26: ='[1]Воловский МО '!I26 -> 0 | H26: =[1]Грязинский!I26 -> 5 | I26: =[1]Данковский!I26 -> 0 | J26: =[1]Добринский!I26 -> 5 | K26: ='[1]Добровский МО'!I26 -> 5 | L26: =[1]Долгоруковский!I26 -> 5 | M26: =[1]Елецкий!I26 -> 5 | N26: =[1]Задонский!I26 -> 5 | O26: =[1]Измалковский!I26 -> 4.72 | P26: =[1]Краснинский!I26 -> 5 | Q26: =[1]Лебедянский!I26 -> 0 | R26: ='[1]Лев-Толстовский'!I26 -> 3.89 | S26: =[1]Липецкий!I26 -> 0 | T26: =[1]Становлянский!I26 -> 5 | U26: =[1]Тербунский!I26 -> 5 | V26: =[1]Усманский!I26 -> 5 | W26: =[1]Хлевенский!I26 -> 5 | X26: =[1]Чаплыгинский!I26 -> 5 | Y26: =[1]г.Елец!I26 -> 5 | Z26: =[1]г.Липецк!I26 -> 5
B27: Итого по блоку | F27: ='[1]Воловский МО '!H27 -> 32.5 | G27: ='[1]Воловский МО '!I27 -> 19.980667 | H27: =[1]Грязинский!I27 -> 30.213667 | I27: =[1]Данковский!I27 -> 23.234333 | J27: =[1]Добринский!I27 -> 29.581333 | K27: ='[1]Добровский МО'!I27 -> 28.72 | L27: =[1]Долгоруковский!I27 -> 26.486667 | M27: =[1]Елецкий!I27 -> 28.663 | N27: =[1]Задонский!I27 -> 28.301 | O27: =[1]Измалковский!I27 -> 22.925 | P27: =[1]Краснинский!I27 -> 28.742333 | Q27: =[1]Лебедянский!I27 -> 23.009 | R27: ='[1]Лев-Толстовский'!I27 -> 23.762667 | S27: =[1]Липецкий!I27 -> 24.193333 | T27: =[1]Становлянский!I27 -> 27.333667 | U27: =[1]Тербунский!I27 -> 23.708333 | V27: =[1]Усманский!I27 -> 28.763667 | W27: =[1]Хлевенский!I27 -> 29.289333 | X27: =[1]Чаплыгинский!I27 -> 29.185333 | Y27: =[1]г.Елец!I27 -> 26.836333 | Z27: =[1]г.Липецк!I27 -> 29.243333 | AA27: =SUM(G27:Z27) -> 532.173
A28: IV. Степень прозрачности бюджетного процесса (открытость бюджетных данных)
A29: =[1]Свод!A29 -> И19 | B29: =[1]Свод!B29 -> Проведение публичных слушаний по проекту местного бюджета и проекту отчета об исполнении местного бюджета в соответствии с установленным порядком | C29: =[1]Свод!C29 -> В отчетном году проводятся публичные слушания по проекту местного бюджета и проекту отчета об исполнении местного бюджета в соответствии с установленным порядком, информация размещается на официальных сайтах в сети Интернет | D29: =[1]Свод!D29 -> да | E29: =[1]Свод!E29 -> нет | F29: =[1]Свод!F29 -> 5 | G29: ='[1]Воловский МО '!I29 -> 5 | H29: =[1]Грязинский!I29 -> 5 | I29: =[1]Данковский!I29 -> 5 | J29: =[1]Добринский!I29 -> 5 | K29: ='[1]Добровский МО'!I29 -> 5 | L29: =[1]Долгоруковский!I29 -> 5 | M29: =[1]Елецкий!I29 -> 5 | N29: =[1]Задонский!I29 -> 5 | O29: =[1]Измалковский!I29 -> 5 | P29: =[1]Краснинский!I29 -> 5 | Q29: =[1]Лебедянский!I29 -> 5 | R29: ='[1]Лев-Толстовский'!I29 -> 5 | S29: =[1]Липецкий!I29 -> 5 | T29: =[1]Становлянский!I29 -> 5 | U29: =[1]Тербунский!I29 -> 5 | V29: =[1]Усманский!I29 -> 5 | W29: =[1]Хлевенский!I29 -> 5 | X29: =[1]Чаплыгинский!I29 -> 5 | Y29: =[1]г.Елец!I29 -> 5 | Z29: =[1]г.Липецк!I29 -> 5
A30: =[1]Свод!A30 -> И20 | B30: =[1]Свод!B30 -> Размещение на официальном сайте администрации муниципального образования в сети Интернет: | C30: =[1]Свод!C30 -> На официальном сайте администрации муниципального образования в сети Интернет размещены все указанные документы | D30: =[1]Свод!D30 -> да | E30: =[1]Свод!E30 -> нет | F30: =[1]Свод!F30 -> 4 | G30: ='[1]Воловский МО '!I30 -> 4 | H30: =[1]Грязинский!I30 -> 4 | I30: =[1]Данковский!I30 -> 4 | J30: =[1]Добринский!I30 -> 4 | K30: ='[1]Добровский МО'!I30 -> 4 | L30: =[1]Долгоруковский!I30 -> 4 | M30: =[1]Елецкий!I30 -> 4 | N30: =[1]Задонский!I30 -> 4 | O30: =[1]Измалковский!I30 -> 4 | P30: =[1]Краснинский!I30 -> 4 | Q30: =[1]Лебедянский!I30 -> 4 | R30: ='[1]Лев-Толстовский'!I30 -> 4 | S30: =[1]Липецкий!I30 -> 4 | T30: =[1]Становлянский!I30 -> 4 | U30: =[1]Тербунский!I30 -> 4 | V30: =[1]Усманский!I30 -> 4 | W30: =[1]Хлевенский!I30 -> 4 | X30: =[1]Чаплыгинский!I30 -> 4 | Y30: =[1]г.Елец!I30 -> 4 | Z30: =[1]г.Липецк!I30 -> 4
B31: =[1]Свод!B31 -> - проекта местного бюджета;
B32: =[1]Свод!B32 -> - решения о местном бюджете;
B33: =[1]Свод!B33 -> - решений об уточнении местного бюджета;
B34: =[1]Свод!B34 -> - промежуточной отчетности об исполнении местного бюджета (квартал, полугодие, 9 месяцев, год);
B35: =[1]Свод!B35 -> - решения об утверждении отчета об исполнении местного бюджета;
B36: =[1]Свод!B36 -> - сведений о заимствованиях местного бюджета
A37: =[1]Свод!A37 -> И21 | B37: =[1]Свод!B37 -> Размещение на официальном сайте администрации муниципального образования в сети Интернет: | C37: =[1]Свод!C37 -> На официальном сайте администрации муниципального образования в сети Интернет размещены все указанные документы | D37: =[1]Свод!D37 -> да | E37: =[1]Свод!E37 -> нет | F37: =[1]Свод!F37 -> 4 | G37: ='[1]Воловский МО '!I37 -> 4 | H37: =[1]Грязинский!I37 -> 4 | I37: =[1]Данковский!I37 -> 4 | J37: =[1]Добринский!I37 -> 4 | K37: ='[1]Добровский МО'!I37 -> 4 | L37: =[1]Долгоруковский!I37 -> 4 | M37: =[1]Елецкий!I37 -> 4 | N37: =[1]Задонский!I37 -> 4 | O37: =[1]Измалковский!I37 -> 4 | P37: =[1]Краснинский!I37 -> 4 | Q37: =[1]Лебедянский!I37 -> 4 | R37: ='[1]Лев-Толстовский'!I37 -> 4 | S37: =[1]Липецкий!I37 -> 4 | T37: =[1]Становлянский!I37 -> 4 | U37: =[1]Тербунский!I37 -> 4 | V37: =[1]Усманский!I37 -> 4 | W37: =[1]Хлевенский!I37 -> 4 | X37: =[1]Чаплыгинский!I37 -> 4 | Y37: =[1]г.Елец!I37 -> 4 | Z37: =[1]г.Липецк!I37 -> 4
B38: =[1]Свод!B38 -> - местного бюджета в доступной для граждан форме ("бюджет для граждан на основе проекта решения о бюджете, внесенного администрацией муниципального образования на рассмотрение Совета депутатов муниципального образования");
B39: =[1]Свод!B39 -> - местного бюджета в доступной для граждан форме ("бюджет для граждан на основе утвержденного решения о бюджете муниципального образования");
B40: =[1]Свод!B40 -> - отчета об исполнении местного бюджета в доступной для граждан форме ("отчет для граждан");
B41: =[1]Свод!B41 -> - сводного доклада о ходе реализации и оценки эффективности реализации муниципальных программ
...
