{"text_format":"1","workbook":"xlsx","n_sheets":1,"sheets":["МБТ"],"not_rendered":{"charts":0,"images":0,"macros":0,"external_links":2,"defined_names":1,"comments":0,"pivot_tables":0},"unopened":[],"bounds":{"document_bytes":16777216,"sheet_cells":100000,"rows_first":2000,"rows_last":500,"rows_between":2000,"halvings":0,"cell_chars":16384,"cell_head_chars":4096},"cells_cut":0,"cells_raw":0,"read":"whole","date_system":"1900"}

{"sheet":"МБТ","index":0,"n_rows":38,"n_cols":16,"rows_kept":38,"cut":false,"hidden":false,"merged":[[1,0,1,15],[4,0,6,0],[5,13,5,15],[5,10,5,12],[5,7,5,9],[5,4,5,6],[4,4,4,15],[4,1,5,3]]}
[]
["ОБЪЕМ  МЕЖБЮДЖЕТНЫХ  ТРАНСФЕРТОВ,  ПРЕДОСТАВЛЕННЫХ  ИЗ  ОБЛАСТНОГО  БЮДЖЕТА  БЮДЖЕТАМ  МУНИЦИПАЛЬНЫХ  ОБРАЗОВАНИЙ  В  2017  ГОДУ"]
[]
[null,null,null,null,null,null,null,null,null,null,null,null,null,null,null,"тыс.руб."]
["Наименование  муниципальных  образований","Всего  межбюджетных  трансфертов",null,null,"в  том  числе"]
[null,null,null,null,"дотация",null,null,"субсидия",null,null,"субвенция",null,null,"иные  межбюджетные  трансферты"]
[null,"первоначально  утвержденный  бюджет","уточненный  годовой  план","исполнено","первоначально  утвержденный  бюджет","уточненный  годовой  план","исполнено","первоначально  утвержденный  бюджет","уточненный  годовой  план","исполнено","первоначально  утвержденный  бюджет","уточненный  годовой  план","исполнено","первоначально  утвержденный  бюджет","уточненный  годовой  план","исполнено"]
["Воловский",{"$f":"E8+H8+K8+N8","v":216433.6},{"$f":"F8+I8+L8+O8","v":281542.61585},{"$f":"G8+J8+M8+P8","v":280784.67348},{"$f":"'[1]Финансовая  помощь  (план)'!E11","v":78906.600000000006},{"$f":"'[2]Исполнение  по  дотации'!B13","v":87792.1},{"$f":"'[2]Исполнение  по  дотации'!E13","v":87792.1},null,{"$f":"'[2]Исполнение  по  субсидии'!B14","v":57369.955850000013},{"$f":"'[2]Исполнение  по  субсидии'!C14","v":56913.720050000011},{"$f":"'[1]Финансовая  помощь  (план)'!X11","v":137527},{"$f":"'[2]Исполнение  по  субвенции'!B14","v":136380.56},{"$f":"'[2]Исполнение  по  субвенции'!G14","v":136078.85342999999},null,{"$f":"'[2]Исполнение  по  иным  МБТ'!B12","v":0},{"$f":"'[2]Исполнение  по  иным  МБТ'!G12","v":0}]
["Грязинский",550991.60200000007,742627.68871000002,738280.76983,{"$f":"'[1]Финансовая  помощь  (план)'!E12","v":92178.8},{"$f":"'[2]Исполнение  по  дотации'!B14","v":97642.415000000008},{"$f":"'[2]Исполнение  по  дотации'!E14","v":97642.415000000008},null,{"$f":"'[2]Исполнение  по  субсидии'!B15","v":160472.16970999996},{"$f":"'[2]Исполнение  по  субсидии'!C15","v":156365.55142999999},{"$f":"'[1]Финансовая  помощь  (план)'!X12","v":458812.80200000003},{"$f":"'[2]Исполнение  по  субвенции'!B15","v":463313.10400000005},{"$f":"'[2]Исполнение  по  субвенции'!G15","v":463072.80340000003},null,{"$f":"'[2]Исполнение  по  иным  МБТ'!B13","v":21200},{"$f":"'[2]Исполнение  по  иным  МБТ'!G13","v":21200}]
["Данковский",402016.08199999999,538021.55630000005,533929.83115999983,{"$f":"'[1]Финансовая  помощь  (план)'!E13","v":127952.5},{"$f":"'[2]Исполнение  по  дотации'!B15","v":146956.9},{"$f":"'[2]Исполнение  по  дотации'!E15","v":146956.9},null,{"$f":"'[2]Исполнение  по  субсидии'!B16","v":115837.24229999997},{"$f":"'[2]Исполнение  по  субсидии'!C16","v":112123.76384999997},{"$f":"'[1]Финансовая  помощь  (план)'!X13","v":274063.58199999999},{"$f":"'[2]Исполнение  по  субвенции'!B16","v":274477.41400000005},{"$f":"'[2]Исполнение  по  субвенции'!G16","v":274099.16730999993},null,{"$f":"'[2]Исполнение  по  иным  МБТ'!B14","v":750},{"$f":"'[2]Исполнение  по  иным  МБТ'!G14","v":750}]
["Добринский",385439.57999999996,485480.39927999995,485185.71761999989,{"$f":"'[1]Финансовая  помощь  (план)'!E14","v":85970.4},{"$f":"'[2]Исполнение  по  дотации'!B16","v":96850.67},{"$f":"'[2]Исполнение  по  дотации'!E16","v":96850.67},null,{"$f":"'[2]Исполнение  по  субсидии'!B17","v":89788.363279999976},{"$f":"'[2]Исполнение  по  субсидии'!C17","v":89758.101969999974},{"$f":"'[1]Финансовая  помощь  (план)'!X14","v":299469.18},{"$f":"'[2]Исполнение  по  субвенции'!B17","v":298841.36599999998},{"$f":"'[2]Исполнение  по  субвенции'!G17","v":298576.94564999995},null,{"$f":"'[2]Исполнение  по  иным  МБТ'!B15","v":0},{"$f":"'[2]Исполнение  по  иным  МБТ'!G15","v":0}]
["Добровский",362553.32,618031.35604999994,610111.8481399999,{"$f":"'[1]Финансовая  помощь  (план)'!E15","v":102864.6},{"$f":"'[2]Исполнение  по  дотации'!B17","v":129732.50199999999},{"$f":"'[2]Исполнение  по  дотации'!E17","v":129732.50199999999},null,{"$f":"'[2]Исполнение  по  субсидии'!B18","v":222513.19805000001},{"$f":"'[2]Исполнение  по  субсидии'!C18","v":214842.90214999998},{"$f":"'[1]Финансовая  помощь  (план)'!X15","v":259688.72},{"$f":"'[2]Исполнение  по  субвенции'!B18","v":265785.65599999996},{"$f":"'[2]Исполнение  по  субвенции'!G18","v":265536.44399},null,{"$f":"'[2]Исполнение  по  иным  МБТ'!B16","v":0},{"$f":"'[2]Исполнение  по  иным  МБТ'!G16","v":0}]
["Долгоруковский",248901,420385.74078999995,416605.64483999996,{"$f":"'[1]Финансовая  помощь  (план)'!E16","v":63040.7},{"$f":"'[2]Исполнение  по  дотации'!B18","v":68765.8},{"$f":"'[2]Исполнение  по  дотации'!E18","v":68765.8},null,{"$f":"'[2]Исполнение  по  субсидии'!B19","v":165568.93878999999},{"$f":"'[2]Исполнение  по  субсидии'!C19","v":161963.35782000003},{"$f":"'[1]Финансовая  помощь  (план)'!X16","v":185860.30000000002},{"$f":"'[2]Исполнение  по  субвенции'!B19","v":186051.00200000001},{"$f":"'[2]Исполнение  по  субвенции'!G19","v":185876.48701999997},null,{"$f":"'[2]Исполнение  по  иным  МБТ'!B17","v":0},{"$f":"'[2]Исполнение  по  иным  МБТ'!G17","v":0}]
["Елецкий",367825.12,537175.76225999999,536324.89162000001,{"$f":"'[1]Финансовая  помощь  (план)'!E17","v":107264},{"$f":"'[2]Исполнение  по  дотации'!B19","v":122960.09999999999},{"$f":"'[2]Исполнение  по  дотации'!E19","v":122960.09999999999},null,{"$f":"'[2]Исполнение  по  субсидии'!B20","v":146157.55026000002},{"$f":"'[2]Исполнение  по  субсидии'!C20","v":145590.89159000001},{"$f":"'[1]Финансовая  помощь  (план)'!X17","v":260561.12},{"$f":"'[2]Исполнение  по  субвенции'!B20","v":268058.11200000002},{"$f":"'[2]Исполнение  по  субвенции'!G20","v":267773.90003000002},null,{"$f":"'[2]Исполнение  по  иным  МБТ'!B18","v":0},{"$f":"'[2]Исполнение  по  иным  МБТ'!G18","v":0}]
["Задонский",309574.86199999996,1094746.5009999999,1044871.314,{"$f":"'[1]Финансовая  помощь  (план)'!E18","v":82210.099999999991},{"$f":"'[2]Исполнение  по  дотации'!B20","v":111520.29999999999},{"$f":"'[2]Исполнение  по  дотации'!E20","v":111520.29999999999},null,{"$f":"'[2]Исполнение  по  субсидии'!B21","v":753606.68700000003},{"$f":"'[2]Исполнение  по  субсидии'!C21","v":704274.35726000008},{"$f":"'[1]Финансовая  помощь  (план)'!X18","v":227364.76199999999},{"$f":"'[2]Исполнение  по  субвенции'!B21","v":229619.514},{"$f":"'[2]Исполнение  по  субвенции'!G21","v":229076.65674000001},null,{"$f":"'[2]Исполнение  по  иным  МБТ'!B19","v":0},{"$f":"'[2]Исполнение  по  иным  МБТ'!G19","v":0}]
["Измалковский",307647.962,435469.34394000005,434796.50872000004,{"$f":"'[1]Финансовая  помощь  (план)'!E19","v":139196.1},{"$f":"'[2]Исполнение  по  дотации'!B21","v":191319.2},{"$f":"'[2]Исполнение  по  дотации'!E21","v":191319.2},null,{"$f":"'[2]Исполнение  по  субсидии'!B22","v":76202.843939999992},{"$f":"'[2]Исполнение  по  субсидии'!C22","v":75598.10007},{"$f":"'[1]Финансовая  помощь  (план)'!X19","v":168451.86199999999},{"$f":"'[2]Исполнение  по  субвенции'!B22","v":167947.30000000002},{"$f":"'[2]Исполнение  по  субвенции'!G22","v":167879.20865000002},null,{"$f":"'[2]Исполнение  по  иным  МБТ'!B20","v":0},{"$f":"'[2]Исполнение  по  иным  МБТ'!G20","v":0}]
["Краснинский",231583.02,292215.07853000006,292137.26668,{"$f":"'[1]Финансовая  помощь  (план)'!E20","v":81680.899999999994},{"$f":"'[2]Исполнение  по  дотации'!B22","v":86918.8},{"$f":"'[2]Исполнение  по  дотации'!E22","v":86918.8},null,{"$f":"'[2]Исполнение  по  субсидии'!B23","v":60046.16653000001},{"$f":"'[2]Исполнение  по  субсидии'!C23","v":60041.333770000005},{"$f":"'[1]Финансовая  помощь  (план)'!X20","v":149902.12},{"$f":"'[2]Исполнение  по  субвенции'!B23","v":145250.11200000002},{"$f":"'[2]Исполнение  по  субвенции'!G23","v":145177.13291000001},null,{"$f":"'[2]Исполнение  по  иным  МБТ'!B21","v":0},{"$f":"'[2]Исполнение  по  иным  МБТ'!G21","v":0}]
["Лебедянский",461252.82200000004,660050.99200000009,659361.48138000001,{"$f":"'[1]Финансовая  помощь  (план)'!E21","v":133742.9},{"$f":"'[2]Исполнение  по  дотации'!B23","v":157250.9},{"$f":"'[2]Исполнение  по  дотации'!E23","v":157250.9},null,{"$f":"'[2]Исполнение  по  субсидии'!B24","v":171922.55600000001},{"$f":"'[2]Исполнение  по  субсидии'!C24","v":171822.33146000002},{"$f":"'[1]Финансовая  помощь  (план)'!X21","v":327509.92200000002},{"$f":"'[2]Исполнение  по  субвенции'!B24","v":330877.53600000002},{"$f":"'[2]Исполнение  по  субвенции'!G24","v":330288.24991999997},null,{"$f":"'[2]Исполнение  по  иным  МБТ'!B22","v":0},{"$f":"'[2]Исполнение  по  иным  МБТ'!G22","v":0}]
["Лев-Толстовский",298023.52,488500.93026999995,488062.62637999991,{"$f":"'[1]Финансовая  помощь  (план)'!E22","v":106291.9},{"$f":"'[2]Исполнение  по  дотации'!B24","v":164619},{"$f":"'[2]Исполнение  по  дотации'!E24","v":164619},null,{"$f":"'[2]Исполнение  по  субсидии'!B25","v":133851.18626999998},{"$f":"'[2]Исполнение  по  субсидии'!C25","v":133646.23475999996},{"$f":"'[1]Финансовая  помощь  (план)'!X22","v":191731.62},{"$f":"'[2]Исполнение  по  субвенции'!B25","v":190030.74400000001},{"$f":"'[2]Исполнение  по  субвенции'!G25","v":189797.39161999995},null,{"$f":"'[2]Исполнение  по  иным  МБТ'!B23","v":0},{"$f":"'[2]Исполнение  по  иным  МБТ'!G23","v":0}]
["Липецкий",480077.74,621437.39182000002,614620.07691000006,{"$f":"'[1]Финансовая  помощь  (план)'!E23","v":40138.400000000001},{"$f":"'[2]Исполнение  по  дотации'!B25","v":56221.9},{"$f":"'[2]Исполнение  по  дотации'!E25","v":56221.9},null,{"$f":"'[2]Исполнение  по  субсидии'!B26","v":126281.43981999999},{"$f":"'[2]Исполнение  по  субсидии'!C26","v":120427.78936000001},{"$f":"'[1]Финансовая  помощь  (план)'!X23","v":439939.33999999997},{"$f":"'[2]Исполнение  по  субвенции'!B26","v":438934.05199999997},{"$f":"'[2]Исполнение  по  субвенции'!G26","v":437970.38755000004},null,{"$f":"'[2]Исполнение  по  иным  МБТ'!B24","v":0},{"$f":"'[2]Исполнение  по  иным  МБТ'!G24","v":0}]
["Становлянский",279559.33999999997,368460.24888999999,367455.17128000001,{"$f":"'[1]Финансовая  помощь  (план)'!E24","v":102473.60000000001},{"$f":"'[2]Исполнение  по  дотации'!B26","v":123061.6},{"$f":"'[2]Исполнение  по  дотации'!E26","v":123061.6},null,{"$f":"'[2]Исполнение  по  субсидии'!B27","v":68822.244889999987},{"$f":"'[2]Исполнение  по  субсидии'!C27","v":68801.092319999996},{"$f":"'[1]Финансовая  помощь  (план)'!X24","v":177085.74},{"$f":"'[2]Исполнение  по  субвенции'!B27","v":176576.40399999998},{"$f":"'[2]Исполнение  по  субвенции'!G27","v":175592.47895999998},null,{"$f":"'[2]Исполнение  по  иным  МБТ'!B25","v":0},{"$f":"'[2]Исполнение  по  иным  МБТ'!G25","v":0}]
["Тербунский",282619.68,363809.03003000002,360082.04342,{"$f":"'[1]Финансовая  помощь  (план)'!E25","v":53315.1},{"$f":"'[2]Исполнение  по  дотации'!B27","v":57251.722999999998},{"$f":"'[2]Исполнение  по  дотации'!E27","v":57251.722999999998},null,{"$f":"'[2]Исполнение  по  субсидии'!B28","v":77563.003030000007},{"$f":"'[2]Исполнение  по  субсидии'!C28","v":73944.142420000004},{"$f":"'[1]Финансовая  помощь  (план)'!X25","v":229304.58000000002},{"$f":"'[2]Исполнение  по  субвенции'!B28","v":228994.304},{"$f":"'[2]Исполнение  по  субвенции'!G28","v":228886.17800000001},null,{"$f":"'[2]Исполнение  по  иным  МБТ'!B26","v":0},{"$f":"'[2]Исполнение  по  иным  МБТ'!G26","v":0}]
["Усманский",510485.42000000004,749940.32466000004,733638.32890999992,{"$f":"'[1]Финансовая  помощь  (план)'!E26","v":170409.60000000001},{"$f":"'[2]Исполнение  по  дотации'!B28","v":214248.73499999999},{"$f":"'[2]Исполнение  по  дотации'!E28","v":214248.73499999999},null,{"$f":"'[2]Исполнение  по  субсидии'!B29","v":182174.64566000001},{"$f":"'[2]Исполнение  по  субсидии'!C29","v":168311.22048999998},{"$f":"'[1]Финансовая  помощь  (план)'!X26","v":340075.82},{"$f":"'[2]Исполнение  по  субвенции'!B29","v":353516.94400000002},{"$f":"'[2]Исполнение  по  субвенции'!G29","v":351078.37341999996},null,{"$f":"'[2]Исполнение  по  иным  МБТ'!B27","v":0},{"$f":"'[2]Исполнение  по  иным  МБТ'!G27","v":0}]
["Хлевенский",240331.62000000002,309195.60846999998,307506.14118999999,{"$f":"'[1]Финансовая  помощь  (план)'!E27","v":58917.5},{"$f":"'[2]Исполнение  по  дотации'!B29","v":62089.9},{"$f":"'[2]Исполнение  по  дотации'!E29","v":62089.9},null,{"$f":"'[2]Исполнение  по  субсидии'!B30","v":69213.896470000007},{"$f":"'[2]Исполнение  по  субсидии'!C30","v":67784.334730000002},{"$f":"'[1]Финансовая  помощь  (план)'!X27","v":181414.12000000002},{"$f":"'[2]Исполнение  по  субвенции'!B30","v":177891.81200000001},{"$f":"'[2]Исполнение  по  субвенции'!G30","v":177631.90646},null,{"$f":"'[2]Исполнение  по  иным  МБТ'!B28","v":0},{"$f":"'[2]Исполнение  по  иным  МБТ'!G28","v":0}]
["Чаплыгинский",346455.92,471003.53213000001,470439.10193,{"$f":"'[1]Финансовая  помощь  (план)'!E28","v":86774.3},{"$f":"'[2]Исполнение  по  дотации'!B30","v":96530.425000000003},{"$f":"'[2]Исполнение  по  дотации'!E30","v":96530.425000000003},null,{"$f":"'[2]Исполнение  по  субсидии'!B31","v":112084.65113000001},{"$f":"'[2]Исполнение  по  субсидии'!C31","v":111971.55893000001},{"$f":"'[1]Финансовая  помощь  (план)'!X28","v":259681.62},{"$f":"'[2]Исполнение  по  субвенции'!B31","v":262388.45600000001},{"$f":"'[2]Исполнение  по  субвенции'!G31","v":261937.11799999999},null,{"$f":"'[2]Исполнение  по  иным  МБТ'!B29","v":0},{"$f":"'[2]Исполнение  по  иным  МБТ'!G29","v":0}]
["Итого  по  районам",{"$f":"SUM(B8:B25)","v":6281772.21},9478094.1009800006,9374193.4374900013,1713328,2071732.97,2071732.97,0,2789476.7389800004,2694180.7844299995,4568444.21,4594934.3920000009,4586329.6830599997,0,21950,21950]
[]
["г. Елец",{"$f":"E28+H28+K28+N28","v":842344.78200000001},1096439.61302,1095439.6013100001,{"$f":"'[1]Финансовая  помощь  (план)'!E31","v":230001.80000000002},{"$f":"'[2]Исполнение  по  дотации'!B33","v":243836.7},{"$f":"'[2]Исполнение  по  дотации'!E33","v":243836.7},null,{"$f":"'[2]Исполнение  по  субсидии'!B34","v":195656.90502000003},{"$f":"'[2]Исполнение  по  субсидии'!C34","v":195656.90502000003},{"$f":"'[1]Финансовая  помощь  (план)'!X31","v":612342.98199999996},{"$f":"'[2]Исполнение  по  субвенции'!B34","v":620846.00800000015},{"$f":"'[2]Исполнение  по  субвенции'!G34","v":619845.99629000004},null,{"$f":"'[2]Исполнение  по  иным  МБТ'!B32","v":36100},{"$f":"'[2]Исполнение  по  иным  МБТ'!G32","v":36100}]
["г. Липецк",3567343.3080000002,6191426.8261600006,6133728.2336499998,{"$f":"'[1]Финансовая  помощь  (план)'!E32","v":305534.69999999995},{"$f":"'[2]Исполнение  по  дотации'!B34","v":448223.41199999995},{"$f":"'[2]Исполнение  по  дотации'!E34","v":448223.41199999995},null,{"$f":"'[2]Исполнение  по  субсидии'!B35","v":1763115.3041600001},{"$f":"'[2]Исполнение  по  субсидии'!C35","v":1706201.06439},{"$f":"'[1]Финансовая  помощь  (план)'!X32","v":3261808.608},{"$f":"'[2]Исполнение  по  субвенции'!B35","v":3311336.2100000004},{"$f":"'[2]Исполнение  по  субвенции'!G35","v":3310941.3724099998},null,{"$f":"'[2]Исполнение  по  иным  МБТ'!B33","v":668751.9},{"$f":"'[2]Исполнение  по  иным  МБТ'!G33","v":668362.38485000003}]
["Итого  по  городам",{"$f":"SUM(B28:B29)","v":4409688.09},7287866.4391800007,7229167.8349599997,535536.5,692060.11199999996,692060.11199999996,0,1958772.20918,1901857.9694099999,3874151.59,3932182.2180000003,3930787.3687,0,704851.9,704462.38485000003]
[]
["Итого  распределено  по  местным  бюджетам",{"$f":"B26+B30","v":10691460.300000001},{"$f":"C26+C30","v":16765960.54016},16603361.27245,2248864.5,2763793.0819999999,2763793.0819999999,0,4748248.9481600001,4596038.7538399994,8442595.8000000007,8527116.6100000013,8517117.0517599992,0,726801.9,726412.38485000003]
[]
["Нераспределенная  сумма",{"$f":"E34+H34+K34+N34","v":2062688.7449999999},{"$f":"F34+I34+L34+O34","v":27917.523099999875},{"$f":"G34+J34+M34+P34","v":0},{"$f":"SUM('[1]Финансовая  помощь  (план)'!$O$37:$T$37)","v":32000},{"$f":"'[2]Исполнение  по  МБТ  всего'!B36","v":0},null,{"$f":"'[1]Финансовая  помощь  (план)'!$B$45","v":2003288.7449999999},{"$f":"'[2]Исполнение  по  МБТ  всего'!B37","v":17556.023099999875},null,null,null,null,{"$f":"'[1]Финансовая  помощь  (план)'!$B$44","v":27400},{"$f":"'[2]Исполнение  по  МБТ  всего'!B38","v":10361.5}]
[]
["ВСЕГО",{"$f":"B32+B34","v":12754149.045},{"$f":"C32+C34","v":16793878.06326},16603361.27245,2280864.5,2763793.0819999999,2763793.0819999999,2003288.7449999999,4765804.97126,4596038.7538399994,8442595.8000000007,8527116.6100000013,8517117.0517599992,27400,737163.4,726412.38485000003]
[]
[null,{"$f":"B36-'[1]Финансовая  помощь  (план)'!$B$39","v":0},{"$f":"C36-'[2]Исполнение  по  МБТ  всего'!$B$40","v":0},{"$f":"D36-'[2]Исполнение  по  МБТ  всего'!$G$40","v":0}]